BEGIN:VCALENDAR
VERSION:2.0
PRODID:-//Squarespace Inc/Squarespace 6//v6//EN
BEGIN:VEVENT
UID:5a3e02679140b75e19597c37@squarespace.com
DTSTAMP:20171223T071512Z
DTSTART:20180116T073000Z
DTEND:20180117T083000Z
SUMMARY:Booked
END:VEVENT
END:VCALENDAR
