BEGIN:VCALENDAR
VERSION:2.0
PRODID:-//Squarespace Inc/Squarespace 6//v6//EN
BEGIN:VEVENT
UID:5a2ba915e2c483f486e92120@squarespace.com
DTSTAMP:20171209T091333Z
DTSTART:20180120T030000Z
DTEND:20180125T010000Z
SUMMARY:Booked
END:VEVENT
END:VCALENDAR
