BEGIN:VCALENDAR
VERSION:2.0
PRODID:-//Squarespace Inc/Squarespace 6//v6//EN
BEGIN:VEVENT
UID:59bcf52603596e15963bca31@squarespace.com
DTSTAMP:20171209T090713Z
DTSTART:20180104T000000Z
DTEND:20180104T010000Z
SUMMARY:Booked
END:VEVENT
END:VCALENDAR
