BEGIN:VCALENDAR
VERSION:2.0
PRODID:-//Squarespace Inc/Squarespace 6//v6//EN
BEGIN:VEVENT
UID:59bcf554268b96397f17bc6c@squarespace.com
DTSTAMP:20170916T095727Z
DTSTART:20180105T020000Z
DTEND:20180106T010000Z
SUMMARY:Booked
END:VEVENT
END:VCALENDAR
