BEGIN:VCALENDAR
VERSION:2.0
PRODID:-//Squarespace Inc/Squarespace 6//v6//EN
BEGIN:VEVENT
UID:5af41fff6d2a739d51a52786@squarespace.com
DTSTAMP:20180510T103433Z
DTSTART:20181019T230000Z
DTEND:20181020T000000Z
SUMMARY:Booked
END:VEVENT
END:VCALENDAR
