BEGIN:VCALENDAR
VERSION:2.0
PRODID:-//Squarespace Inc/Squarespace 6//v6//EN
BEGIN:VEVENT
UID:5bcd310f8165f55241ff40d3@squarespace.com
DTSTAMP:20181022T020917Z
DTSTART:20181023T023000Z
DTEND:20181023T130000Z
SUMMARY:Booked
END:VEVENT
END:VCALENDAR
