BEGIN:VCALENDAR
VERSION:2.0
PRODID:-//Squarespace Inc/Squarespace 6//v6//EN
BEGIN:VEVENT
UID:5bcd3162f4e1fc3b645e8518@squarespace.com
DTSTAMP:20181022T021024Z
DTSTART:20181026T023000Z
DTEND:20181026T130000Z
SUMMARY:Booked
END:VEVENT
END:VCALENDAR
