BEGIN:VCALENDAR
VERSION:2.0
PRODID:-//Squarespace Inc/Squarespace 6//v6//EN
BEGIN:VEVENT
UID:5bcd322ab208fc15b7136ecf@squarespace.com
DTSTAMP:20181022T021408Z
DTSTART:20181116T023000Z
DTEND:20181116T123000Z
SUMMARY:Booked
END:VEVENT
END:VCALENDAR
