BEGIN:VCALENDAR
VERSION:2.0
PRODID:-//Squarespace Inc/Squarespace 6//v6//EN
BEGIN:VEVENT
UID:5bcd3253e4966bca9c8ec32d@squarespace.com
DTSTAMP:20181022T021449Z
DTSTART:20181123T023000Z
DTEND:20181124T033000Z
SUMMARY:Booked
END:VEVENT
END:VCALENDAR
