BEGIN:VCALENDAR
VERSION:2.0
PRODID:-//Squarespace Inc/Squarespace 6//v6//EN
BEGIN:VEVENT
UID:5bcd31c8085229820cdbe3f7@squarespace.com
DTSTAMP:20181022T021202Z
DTSTART:20181103T023000Z
DTEND:20181104T033000Z
SUMMARY:Booked
END:VEVENT
END:VCALENDAR
