BEGIN:VCALENDAR
VERSION:2.0
PRODID:-//Squarespace Inc/Squarespace 6//v6//EN
BEGIN:VEVENT
UID:5bcd32bac830250ce989c146@squarespace.com
DTSTAMP:20181022T021549Z
DTSTART:20181130T023000Z
DTEND:20181202T033000Z
SUMMARY:Booked
END:VEVENT
END:VCALENDAR
