BEGIN:VCALENDAR
VERSION:2.0
PRODID:-//Squarespace Inc/Squarespace 6//v6//EN
BEGIN:VEVENT
UID:5bcd3202652dead937c46e1d@squarespace.com
DTSTAMP:20181022T021247Z
DTSTART:20181109T023000Z
DTEND:20181110T033000Z
SUMMARY:Booked
END:VEVENT
END:VCALENDAR
