BEGIN:VCALENDAR
VERSION:2.0
PRODID:-//Squarespace Inc/Squarespace 6//v6//EN
BEGIN:VEVENT
UID:5c23f5c988251b13c5a82359@squarespace.com
DTSTAMP:20181226T214259Z
DTSTART:20181212T220000Z
DTEND:20181216T230000Z
SUMMARY:Booked
END:VEVENT
END:VCALENDAR
