BEGIN:VCALENDAR
VERSION:2.0
PRODID:-//Squarespace Inc/Squarespace 6//v6//EN
BEGIN:VEVENT
UID:5c23f57d4ae2377bd3bfbcf9@squarespace.com
DTSTAMP:20181226T214148Z
DTSTART:20181220T220000Z
DTEND:20181222T230000Z
SUMMARY:Booked
END:VEVENT
END:VCALENDAR
