BEGIN:VCALENDAR
VERSION:2.0
PRODID:-//Squarespace Inc/Squarespace 6//v6//EN
BEGIN:VEVENT
UID:5bcd32fd104c7b8195a71f5a@squarespace.com
DTSTAMP:20181022T021653Z
DTSTART:20181229T023000Z
DTEND:20181230T033000Z
SUMMARY:Booked
END:VEVENT
END:VCALENDAR
