BEGIN:VCALENDAR
VERSION:2.0
PRODID:-//Squarespace Inc/Squarespace 6//v6//EN
BEGIN:VEVENT
UID:5c23f4ee1ae6cf5cfb244521@squarespace.com
DTSTAMP:20190101T063518Z
DTSTART:20181230T220000Z
DTEND:20190103T230000Z
SUMMARY:Booked
END:VEVENT
END:VCALENDAR
