BEGIN:VCALENDAR
VERSION:2.0
PRODID:-//Squarespace Inc/Squarespace 6//v6//EN
BEGIN:VEVENT
UID:59bcf5b6ccc5c5890feda918@squarespace.com
DTSTAMP:20171209T090702Z
DTSTART:20180208T020000Z
DTEND:20180210T000000Z
SUMMARY:Booked
END:VEVENT
END:VCALENDAR
