BEGIN:VCALENDAR
VERSION:2.0
PRODID:-//Squarespace Inc/Squarespace 6//v6//EN
BEGIN:VEVENT
UID:5ab49d7e2b6a289b671c28b0@squarespace.com
DTSTAMP:20180323T062544Z
DTSTART:20180314T063000Z
DTEND:20180314T073000Z
SUMMARY:Booked
END:VEVENT
END:VCALENDAR
