BEGIN:VCALENDAR
VERSION:2.0
PRODID:-//Squarespace Inc/Squarespace 6//v6//EN
BEGIN:VEVENT
UID:5a2ba985c83025c512a45757@squarespace.com
DTSTAMP:20171209T091518Z
DTSTART:20180302T030000Z
DTEND:20180303T010000Z
SUMMARY:Booked
END:VEVENT
END:VCALENDAR
