BEGIN:VCALENDAR
VERSION:2.0
PRODID:-//Squarespace Inc/Squarespace 6//v6//EN
BEGIN:VEVENT
UID:59bcf5ecd2b8578941024ea6@squarespace.com
DTSTAMP:20170916T095954Z
DTSTART:20180322T020000Z
DTEND:20180325T000000Z
SUMMARY:Booked
END:VEVENT
END:VCALENDAR
