BEGIN:VCALENDAR
VERSION:2.0
PRODID:-//Squarespace Inc/Squarespace 6//v6//EN
BEGIN:VEVENT
UID:5ab49e66575d1f48a5b8221a@squarespace.com
DTSTAMP:20180323T062831Z
DTSTART:20180413T073000Z
DTEND:20180415T010000Z
SUMMARY:Booked
END:VEVENT
END:VCALENDAR
