BEGIN:VCALENDAR
VERSION:2.0
PRODID:-//Squarespace Inc/Squarespace 6//v6//EN
BEGIN:VEVENT
UID:5a2ba9b5e4966b5dad6409c2@squarespace.com
DTSTAMP:20171209T092102Z
DTSTART:20180428T040000Z
DTEND:20180430T050000Z
SUMMARY:Booked
END:VEVENT
END:VCALENDAR
