BEGIN:VCALENDAR
VERSION:2.0
PRODID:-//Squarespace Inc/Squarespace 6//v6//EN
BEGIN:VEVENT
UID:5ab49e41575d1f48a5b81f21@squarespace.com
DTSTAMP:20180323T062741Z
DTSTART:20180406T073000Z
DTEND:20180408T083000Z
SUMMARY:Booked
END:VEVENT
END:VCALENDAR
