BEGIN:VCALENDAR
VERSION:2.0
PRODID:-//Squarespace Inc/Squarespace 6//v6//EN
BEGIN:VEVENT
UID:5af41f52758d46e0052b6e26@squarespace.com
DTSTAMP:20180510T103152Z
DTSTART:20180527T030000Z
DTEND:20180528T010000Z
SUMMARY:Booked
END:VEVENT
END:VCALENDAR
