BEGIN:VCALENDAR
VERSION:2.0
PRODID:-//Squarespace Inc/Squarespace 6//v6//EN
BEGIN:VEVENT
UID:5ab49eff88251b2e6b0d2f5e@squarespace.com
DTSTAMP:20180323T063058Z
DTSTART:20180801T080000Z
DTEND:20180807T010000Z
SUMMARY:Booked
END:VEVENT
END:VCALENDAR
