BEGIN:VCALENDAR
VERSION:2.0
PRODID:-//Squarespace Inc/Squarespace 6//v6//EN
BEGIN:VEVENT
UID:5c23f61c0ebbe81c49d141fe@squarespace.com
DTSTAMP:20181226T214418Z
DTSTART:20190112T220000Z
DTEND:20190117T230000Z
SUMMARY:Booked
END:VEVENT
END:VCALENDAR
