BEGIN:VCALENDAR
VERSION:2.0
PRODID:-//Squarespace Inc/Squarespace 6//v6//EN
BEGIN:VEVENT
UID:5c2b0a54032be425c69039fd@squarespace.com
DTSTAMP:20190101T063748Z
DTSTART:20190122T070000Z
DTEND:20190124T080000Z
SUMMARY:Booked
END:VEVENT
END:VCALENDAR
