BEGIN:VCALENDAR
VERSION:2.0
PRODID:-//Squarespace Inc/Squarespace 6//v6//EN
BEGIN:VEVENT
UID:5c23f5f1c2241bae1b2b3a9a@squarespace.com
DTSTAMP:20181226T214348Z
DTSTART:20190108T220000Z
DTEND:20190111T230000Z
SUMMARY:Booked
END:VEVENT
END:VCALENDAR
