BEGIN:VCALENDAR
VERSION:2.0
PRODID:-//Squarespace Inc/Squarespace 6//v6//EN
BEGIN:VEVENT
UID:5c60d549e5e5f0cc901285ad@squarespace.com
DTSTAMP:20190211T015240Z
DTSTART:20190211T020000Z
DTEND:20190219T030000Z
SUMMARY:Booked
END:VEVENT
END:VCALENDAR
