BEGIN:VCALENDAR
VERSION:2.0
PRODID:-//Squarespace Inc/Squarespace 6//v6//EN
BEGIN:VEVENT
UID:5c73712224a6945c71b4768c@squarespace.com
DTSTAMP:20190225T043901Z
DTSTART:20190223T050000Z
DTEND:20190302T060000Z
SUMMARY:Booked
END:VEVENT
END:VCALENDAR
