BEGIN:VCALENDAR
VERSION:2.0
PRODID:-//Squarespace Inc/Squarespace 6//v6//EN
BEGIN:VEVENT
UID:5c60d636085229b582c9b4ee@squarespace.com
DTSTAMP:20190211T015642Z
DTSTART:20190228T020000Z
DTEND:20190301T030000Z
SUMMARY:Booked
END:VEVENT
END:VCALENDAR
