BEGIN:VCALENDAR
VERSION:2.0
PRODID:-//Squarespace Inc/Squarespace 6//v6//EN
BEGIN:VEVENT
UID:5c7370a424a6945c71b471b0@squarespace.com
DTSTAMP:20190225T043640Z
DTSTART:20190203T050000Z
DTEND:20190208T060000Z
SUMMARY:Booked
END:VEVENT
END:VCALENDAR
