BEGIN:VCALENDAR
VERSION:2.0
PRODID:-//Squarespace Inc/Squarespace 6//v6//EN
BEGIN:VEVENT
UID:5c2b0a9c352f53619ae4e191@squarespace.com
DTSTAMP:20190211T015716Z
DTSTART:20190313T070000Z
DTEND:20190316T080000Z
SUMMARY:Booked
END:VEVENT
END:VCALENDAR
