BEGIN:VCALENDAR
VERSION:2.0
PRODID:-//Squarespace Inc/Squarespace 6//v6//EN
BEGIN:VEVENT
UID:5c7371b96e9a7f1fd2a829d5@squarespace.com
DTSTAMP:20190225T044045Z
DTSTART:20190317T050000Z
DTEND:20190317T060000Z
SUMMARY:Booked
END:VEVENT
END:VCALENDAR
