BEGIN:VCALENDAR
VERSION:2.0
PRODID:-//Squarespace Inc/Squarespace 6//v6//EN
BEGIN:VEVENT
UID:5c7371d6eb39313412e0ea86@squarespace.com
DTSTAMP:20190225T044118Z
DTSTART:20190322T050000Z
DTEND:20190324T060000Z
SUMMARY:Booked
END:VEVENT
END:VCALENDAR
