BEGIN:VCALENDAR
VERSION:2.0
PRODID:-//Squarespace Inc/Squarespace 6//v6//EN
BEGIN:VEVENT
UID:5c980300c83025368bf8ef1c@squarespace.com
DTSTAMP:20190324T222229Z
DTSTART:20190328T223000Z
DTEND:20190331T000000Z
SUMMARY:Booked
END:VEVENT
END:VCALENDAR
