BEGIN:VCALENDAR
VERSION:2.0
PRODID:-//Squarespace Inc/Squarespace 6//v6//EN
BEGIN:VEVENT
UID:5c737172fa0d600773c305fd@squarespace.com
DTSTAMP:20190225T043934Z
DTSTART:20190303T050000Z
DTEND:20190308T060000Z
SUMMARY:Booked
END:VEVENT
END:VCALENDAR
