BEGIN:VCALENDAR
VERSION:2.0
PRODID:-//Squarespace Inc/Squarespace 6//v6//EN
BEGIN:VEVENT
UID:5cabd766971a18059e83a58e@squarespace.com
DTSTAMP:20190408T232145Z
DTSTART:20190412T233000Z
DTEND:20190418T003000Z
SUMMARY:booked
END:VEVENT
END:VCALENDAR
