BEGIN:VCALENDAR
VERSION:2.0
PRODID:-//Squarespace Inc/Squarespace 6//v6//EN
BEGIN:VEVENT
UID:5c98037d4e17b612dde8f446@squarespace.com
DTSTAMP:20190324T222428Z
DTSTART:20190417T233000Z
DTEND:20190423T010000Z
SUMMARY:Booked
END:VEVENT
END:VCALENDAR
