BEGIN:VCALENDAR
VERSION:2.0
PRODID:-//Squarespace Inc/Squarespace 6//v6//EN
BEGIN:VEVENT
UID:5c9803b0eef1a1538c26b4b2@squarespace.com
DTSTAMP:20190324T222534Z
DTSTART:20190403T223000Z
DTEND:20190404T233000Z
SUMMARY:Booked
END:VEVENT
END:VCALENDAR
