BEGIN:VCALENDAR
VERSION:2.0
PRODID:-//Squarespace Inc/Squarespace 6//v6//EN
BEGIN:VEVENT
UID:5c60d68ce5e5f0cc9012965d@squarespace.com
DTSTAMP:20190211T015758Z
DTSTART:20190405T020000Z
DTEND:20190406T030000Z
SUMMARY:Booked
END:VEVENT
END:VCALENDAR
