BEGIN:VCALENDAR
VERSION:2.0
PRODID:-//Squarespace Inc/Squarespace 6//v6//EN
BEGIN:VEVENT
UID:5cabd7c9971a18059e83aa6a@squarespace.com
DTSTAMP:20190408T232308Z
DTSTART:20190408T233000Z
DTEND:20190413T003000Z
SUMMARY:Booked
END:VEVENT
END:VCALENDAR
