BEGIN:VCALENDAR
VERSION:2.0
PRODID:-//Squarespace Inc/Squarespace 6//v6//EN
BEGIN:VEVENT
UID:5cf380cdb5c8b20001c00b3d@squarespace.com
DTSTAMP:20190602T075558Z
DTSTART:20190603T080000Z
DTEND:20190803T090000Z
SUMMARY:Booked
END:VEVENT
END:VCALENDAR
